BEGIN:VCALENDAR
VERSION:2.0
PRODID:-//Regenbogenfamilien München - ECPv6.15.20//NONSGML v1.0//EN
CALSCALE:GREGORIAN
METHOD:PUBLISH
X-WR-CALNAME:Regenbogenfamilien München
X-ORIGINAL-URL:https://regenbogenfamilien-muenchen.de
X-WR-CALDESC:Veranstaltungen für Regenbogenfamilien München
REFRESH-INTERVAL;VALUE=DURATION:PT1H
X-Robots-Tag:noindex
X-PUBLISHED-TTL:PT1H
BEGIN:VTIMEZONE
TZID:Europe/Berlin
BEGIN:DAYLIGHT
TZOFFSETFROM:+0100
TZOFFSETTO:+0200
TZNAME:CEST
DTSTART:20250330T010000
END:DAYLIGHT
BEGIN:STANDARD
TZOFFSETFROM:+0200
TZOFFSETTO:+0100
TZNAME:CET
DTSTART:20251026T010000
END:STANDARD
BEGIN:DAYLIGHT
TZOFFSETFROM:+0100
TZOFFSETTO:+0200
TZNAME:CEST
DTSTART:20260329T010000
END:DAYLIGHT
BEGIN:STANDARD
TZOFFSETFROM:+0200
TZOFFSETTO:+0100
TZNAME:CET
DTSTART:20261025T010000
END:STANDARD
BEGIN:DAYLIGHT
TZOFFSETFROM:+0100
TZOFFSETTO:+0200
TZNAME:CEST
DTSTART:20270328T010000
END:DAYLIGHT
BEGIN:STANDARD
TZOFFSETFROM:+0200
TZOFFSETTO:+0100
TZNAME:CET
DTSTART:20271031T010000
END:STANDARD
END:VTIMEZONE
BEGIN:VEVENT
DTSTART;TZID=Europe/Berlin:20260614T140000
DTEND;TZID=Europe/Berlin:20260614T173000
DTSTAMP:20260424T131426
CREATED:20260313T094756Z
LAST-MODIFIED:20260313T094756Z
UID:10002089-1781445600-1781458200@regenbogenfamilien-muenchen.de
SUMMARY:Kinderwunsch & Elternsein – offener Treff für trans*\, inter* und nicht-binäre (TIN*) Personen und ihre Familien
DESCRIPTION:Familienpicknick PrideWeeks Edition  \nKinderwunsch und Elternsein – Offener Treff für trans*\, inter* und nicht-binäre (TIN*) Personen und ihre Familien   \nAm 14.06.26 (Start 14:00 Uhr) laden wir euch anlässlich der PrideWeeks zum großen TIN* Familienpicknick ein! \nDer Nachmittag soll Raum für Begegnung\, Austausch und ein entspanntes Miteinander von TIN* Familien bieten. \nBitte mitbringen: Sonnencreme\, Snacks\, Getränke und wenn möglich eine Picknickdecke. Für Spielmöglichkeiten und kleine Aktivitäten für Kinder ist gesorgt. Toiletten und Wickelmöglichkeiten stehen im Regenbogenfamilienzentrum zur Verfügung. \nIhr findet uns auf dem Deidesheimer Anger hinter dem Spielplatz gegenüber vom Regenbogenfamilienzentrum. Erkennen könnt ihr uns auf der Wiese an unserem Maskottchen – dem Schnabeltier! \nDu bist herzlich willkommen:\n• TIN* Personen mit Kinderwunsch – ob Single oder in Partnerschaft\n• TIN* Personen mit Kindern – ob alleinerziehend oder in Partnerschaft\n• Partner*innen von TIN* Personen – egal ob cis oder TIN*\n• Co-Eltern\n• Und natürlich: Kinder sind herzlich willkommen! \nUm Anmeldung wird gebeten\, einfach eine Mail an TIN-Familien[at]proton.me schreiben. \nDer Eintritt ist kostenlos – wir freuen uns aber über Spenden in unserer Spendenbox. \nWir freuen uns auf euch!  \n  \nFamily Picnic PrideWeeks Edition \nParenthood and Family Planning – Meet-Up for trans*\, inter* and nonbinary (TIN*) Individuals and their Families  \nOn June 14\, 2026 (starting at 2:00 PM) we warmly invite you to our TIN* family picnic as part of the PrideWeeks. \nThe afternoon is meant to offer space for meeting each other\, exchanging experiences\, and spending relaxed time together as TIN* families. \nPlease bring: sunscreen\, snacks\, drinks and\, if possible\, a picnic blanket.\nThere will be games and small activities for children.\nToilets and changing facilities are available at the Regenbogenfamilienzentrum. \nYou can find us on the „Deidesheimer Anger“\, behind the playground directly opposite the Regenbogenfamilienzentrum.\nYou will recognize us on the meadow by our mascot – the platypus! \nThis group is for you if you are: \n\na TIN* person hoping to become a parent – whether single or in a relationship\na TIN* parent – whether single or in a relationship\na partner of a TIN* person – whether cis or TIN*\na co-parent\nand of course: children are always welcome!\n\nPlease register by sending an email to TIN-Familien[at]proton.me. \nParticipation is free – donations for our donation box are always appreciated.   \nWe’re looking forward to meeting you! 
URL:https://regenbogenfamilien-muenchen.de/event/kinderwunsch-elternsein-offener-treff-fuer-trans-inter-und-nicht-binaere-tin-personen-und-ihre-familien-10/
LOCATION:Fach- und Beratungsstelle Regenbogenfamilien\, Saarstraße 5 / II\, München\, Bayern\, 80797\, Deutschland
CATEGORIES:aktuell
ATTACH;FMTTYPE=image/png:https://regenbogenfamilien-muenchen.de/wp-content/uploads/Draglesung-11.12.23-Moosach6-1.png
ORGANIZER;CN="Fach- und Beratungsstelle Regenbogenfamilien":MAILTO:info@regenbogenfamilien-muenchen.de
GEO:48.164652668183;11.561919550743
X-APPLE-STRUCTURED-LOCATION;VALUE=URI;X-ADDRESS=Fach- und Beratungsstelle Regenbogenfamilien Saarstraße 5 / II München Bayern 80797 Deutschland;X-APPLE-RADIUS=500;X-TITLE=Saarstraße 5 / II:geo:11.561919550743,48.164652668183
END:VEVENT
END:VCALENDAR