BEGIN:VCALENDAR
VERSION:2.0
PRODID:-//Regenbogenfamilien München - ECPv6.15.20//NONSGML v1.0//EN
CALSCALE:GREGORIAN
METHOD:PUBLISH
X-ORIGINAL-URL:https://regenbogenfamilien-muenchen.de
X-WR-CALDESC:Veranstaltungen für Regenbogenfamilien München
REFRESH-INTERVAL;VALUE=DURATION:PT1H
X-Robots-Tag:noindex
X-PUBLISHED-TTL:PT1H
BEGIN:VTIMEZONE
TZID:Europe/Berlin
BEGIN:DAYLIGHT
TZOFFSETFROM:+0100
TZOFFSETTO:+0200
TZNAME:CEST
DTSTART:20240331T010000
END:DAYLIGHT
BEGIN:STANDARD
TZOFFSETFROM:+0200
TZOFFSETTO:+0100
TZNAME:CET
DTSTART:20241027T010000
END:STANDARD
BEGIN:DAYLIGHT
TZOFFSETFROM:+0100
TZOFFSETTO:+0200
TZNAME:CEST
DTSTART:20250330T010000
END:DAYLIGHT
BEGIN:STANDARD
TZOFFSETFROM:+0200
TZOFFSETTO:+0100
TZNAME:CET
DTSTART:20251026T010000
END:STANDARD
BEGIN:DAYLIGHT
TZOFFSETFROM:+0100
TZOFFSETTO:+0200
TZNAME:CEST
DTSTART:20260329T010000
END:DAYLIGHT
BEGIN:STANDARD
TZOFFSETFROM:+0200
TZOFFSETTO:+0100
TZNAME:CET
DTSTART:20261025T010000
END:STANDARD
BEGIN:DAYLIGHT
TZOFFSETFROM:+0100
TZOFFSETTO:+0200
TZNAME:CEST
DTSTART:20270328T010000
END:DAYLIGHT
BEGIN:STANDARD
TZOFFSETFROM:+0200
TZOFFSETTO:+0100
TZNAME:CET
DTSTART:20271031T010000
END:STANDARD
END:VTIMEZONE
BEGIN:VEVENT
DTSTART;TZID=Europe/Berlin:20260126T183000
DTEND;TZID=Europe/Berlin:20260126T203000
DTSTAMP:20260423T214028
CREATED:20251203T155039Z
LAST-MODIFIED:20260204T155852Z
UID:10001952-1769452200-1769459400@regenbogenfamilien-muenchen.de
SUMMARY:Queer Family Academy: Kinderwunsch und Möglichkeiten der Familiengründung
DESCRIPTION:Hybridveranstaltung \nEin Informationsabend als Überblick\, welche Möglichkeiten ihr habt\, euren Kinderwunsch in die Realität umzusetzen. Natürlich wird es auch genug Raum für eure individuellen Fragen geben. \nDie Veranstaltung findet hybrid statt. Kommt gerne zu uns ins Regenbogenfamilienzentrum oder seid über Zoom dabei.\nAnmeldung bitter per E-Mail an: info@regenbogenfamilien-muenchen.de \nDer Informationsabend ist sowohl für alle queeren Menschen\, die sich informieren möchten\, als auch für Fachkräfte gedacht. \nEintritt kostenlos\, wir freuen uns über Spenden in unserer Spendenbox!
URL:https://regenbogenfamilien-muenchen.de/event/queer-family-academy-kinderwunsch-und-moeglichkeiten-der-familiengruendung/
LOCATION:Fach- und Beratungsstelle Regenbogenfamilien\, Saarstraße 5 / II\, München\, Bayern\, 80797\, Deutschland
CATEGORIES:vergangen
ATTACH;FMTTYPE=image/png:https://regenbogenfamilien-muenchen.de/wp-content/uploads/QFA-1b23.png
GEO:48.164652668183;11.561919550743
X-APPLE-STRUCTURED-LOCATION;VALUE=URI;X-ADDRESS=Fach- und Beratungsstelle Regenbogenfamilien Saarstraße 5 / II München Bayern 80797 Deutschland;X-APPLE-RADIUS=500;X-TITLE=Saarstraße 5 / II:geo:11.561919550743,48.164652668183
END:VEVENT
BEGIN:VEVENT
DTSTART;TZID=Europe/Berlin:20251201T183000
DTEND;TZID=Europe/Berlin:20251201T203000
DTSTAMP:20260423T214028
CREATED:20251028T101549Z
LAST-MODIFIED:20260120T102444Z
UID:10001930-1764613800-1764621000@regenbogenfamilien-muenchen.de
SUMMARY:Queer Family Academy: Abstammungsrecht und Stiefkindadoption
DESCRIPTION:Hybridveranstaltung \nEin Informationsabend über die Anerkennung von Regenbogenfamilien\, über das Abstammungsrecht und die Stiefkindadoption gibt es am 1. Dezember 2025 um 18.30 Uhr im Rahmen unserer „Queer Family Academy“ (QFA). \nSeit Jahren liegen sechs Fälle von Regenbogenfamilien unterschiedlicher Konstellationen beim Bundesverfassungsgericht in Karlsruhe. Nach wie vor gibt es keine Entscheidungen; und kein modernes Abstammungsrecht in Deutschland. Über die aktuelle Situation\, wie Regenbogenfamilien ihre Kinder und Familien absichern können\, informieren wir am 1. Dezember. Die Veranstaltung findet sowohl in Präsenz vor Ort als auch online statt. \nReferentin: Karin Stempfhuber\, Regenbogenfamilienzentrum München \nDie Veranstaltung findet zum ersten Mal hybrid statt. Kommt gerne zu uns ins Regenbogenfamilienzentrum oder seid über Zoom dabei.\nAnmeldung bitter per E-Mail an: info@regenbogenfamilien-muenchen.de \nDer Informationsabend ist sowohl für alle queeren Menschen\, die sich informieren möchten\, als auch für Fachkräfte gedacht
URL:https://regenbogenfamilien-muenchen.de/event/queer-family-academy-recht-2025/
LOCATION:Fach- und Beratungsstelle Regenbogenfamilien\, Saarstraße 5 / II\, München\, Bayern\, 80797\, Deutschland
CATEGORIES:vergangen
ATTACH;FMTTYPE=image/png:https://regenbogenfamilien-muenchen.de/wp-content/uploads/QFA-1b21.png
GEO:48.164652668183;11.561919550743
X-APPLE-STRUCTURED-LOCATION;VALUE=URI;X-ADDRESS=Fach- und Beratungsstelle Regenbogenfamilien Saarstraße 5 / II München Bayern 80797 Deutschland;X-APPLE-RADIUS=500;X-TITLE=Saarstraße 5 / II:geo:11.561919550743,48.164652668183
END:VEVENT
END:VCALENDAR