BEGIN:VCALENDAR
VERSION:2.0
PRODID:-//Regenbogenfamilien München - ECPv6.15.20//NONSGML v1.0//EN
CALSCALE:GREGORIAN
METHOD:PUBLISH
X-WR-CALNAME:Regenbogenfamilien München
X-ORIGINAL-URL:https://regenbogenfamilien-muenchen.de
X-WR-CALDESC:Veranstaltungen für Regenbogenfamilien München
REFRESH-INTERVAL;VALUE=DURATION:PT1H
X-Robots-Tag:noindex
X-PUBLISHED-TTL:PT1H
BEGIN:VTIMEZONE
TZID:Europe/Berlin
BEGIN:DAYLIGHT
TZOFFSETFROM:+0100
TZOFFSETTO:+0200
TZNAME:CEST
DTSTART:20250330T010000
END:DAYLIGHT
BEGIN:STANDARD
TZOFFSETFROM:+0200
TZOFFSETTO:+0100
TZNAME:CET
DTSTART:20251026T010000
END:STANDARD
BEGIN:DAYLIGHT
TZOFFSETFROM:+0100
TZOFFSETTO:+0200
TZNAME:CEST
DTSTART:20260329T010000
END:DAYLIGHT
BEGIN:STANDARD
TZOFFSETFROM:+0200
TZOFFSETTO:+0100
TZNAME:CET
DTSTART:20261025T010000
END:STANDARD
BEGIN:DAYLIGHT
TZOFFSETFROM:+0100
TZOFFSETTO:+0200
TZNAME:CEST
DTSTART:20270328T010000
END:DAYLIGHT
BEGIN:STANDARD
TZOFFSETFROM:+0200
TZOFFSETTO:+0100
TZNAME:CET
DTSTART:20271031T010000
END:STANDARD
END:VTIMEZONE
BEGIN:VEVENT
DTSTART;TZID=Europe/Berlin:20260428T180000
DTEND;TZID=Europe/Berlin:20260428T200000
DTSTAMP:20260423T232902
CREATED:20260319T173011Z
LAST-MODIFIED:20260319T173011Z
UID:10002091-1777399200-1777406400@regenbogenfamilien-muenchen.de
SUMMARY:Queer Family Academy: Adoption und Pflege
DESCRIPTION:Infoabend: Pflege & Adoption für queere Paare mit Kinderwunsch \nIhr wünscht euch ein Kind und überlegt\, welcher Weg für euch der richtige ist? Ihr möchtet mehr über Pflege oder Adoption erfahren und herausfinden\, ob das zu eurer Lebenssituation passt?Im Rahmen unseres QFA-Abends „Pflege und Adoption“ begrüßen wir zwei Fachpersonen aus der Pflege- und Adoptionsstelle des Jugendamts\, die einen Einblick in die Voraussetzungen\, Abläufe und Besonderheiten dieser Wege zur Familiengründung geben. Dabei wird auch Raum für individuelle Fragen und Austausch sein. \nWir freuen uns auf einen informativen und offenen Austausch! \n\n\n\n\n\n\n\n\n\n\n\nAnmeldung bitter per E-Mail an: info@regenbogenfamilien-muenchen.de \nDer Informationsabend ist sowohl für alle queeren Menschen\, die sich informieren möchten\, als auch für Fachkräfte gedacht. \nEintritt kostenlos\, wir freuen uns über Spenden in unserer Spendenbox!
URL:https://regenbogenfamilien-muenchen.de/event/queer-family-academy-adoption-und-pflege/
LOCATION:Fach- und Beratungsstelle Regenbogenfamilien\, Saarstraße 5 / II\, München\, Bayern\, 80797\, Deutschland
CATEGORIES:aktuell
ATTACH;FMTTYPE=image/png:https://regenbogenfamilien-muenchen.de/wp-content/uploads/QFA-1b2-1.png
GEO:48.164652668183;11.561919550743
X-APPLE-STRUCTURED-LOCATION;VALUE=URI;X-ADDRESS=Fach- und Beratungsstelle Regenbogenfamilien Saarstraße 5 / II München Bayern 80797 Deutschland;X-APPLE-RADIUS=500;X-TITLE=Saarstraße 5 / II:geo:11.561919550743,48.164652668183
END:VEVENT
END:VCALENDAR