BEGIN:VCALENDAR
VERSION:2.0
PRODID:-//Regenbogenfamilien München - ECPv6.15.20//NONSGML v1.0//EN
CALSCALE:GREGORIAN
METHOD:PUBLISH
X-ORIGINAL-URL:https://regenbogenfamilien-muenchen.de
X-WR-CALDESC:Veranstaltungen für Regenbogenfamilien München
REFRESH-INTERVAL;VALUE=DURATION:PT1H
X-Robots-Tag:noindex
X-PUBLISHED-TTL:PT1H
BEGIN:VTIMEZONE
TZID:Europe/Berlin
BEGIN:DAYLIGHT
TZOFFSETFROM:+0100
TZOFFSETTO:+0200
TZNAME:CEST
DTSTART:20240331T010000
END:DAYLIGHT
BEGIN:STANDARD
TZOFFSETFROM:+0200
TZOFFSETTO:+0100
TZNAME:CET
DTSTART:20241027T010000
END:STANDARD
BEGIN:DAYLIGHT
TZOFFSETFROM:+0100
TZOFFSETTO:+0200
TZNAME:CEST
DTSTART:20250330T010000
END:DAYLIGHT
BEGIN:STANDARD
TZOFFSETFROM:+0200
TZOFFSETTO:+0100
TZNAME:CET
DTSTART:20251026T010000
END:STANDARD
BEGIN:DAYLIGHT
TZOFFSETFROM:+0100
TZOFFSETTO:+0200
TZNAME:CEST
DTSTART:20260329T010000
END:DAYLIGHT
BEGIN:STANDARD
TZOFFSETFROM:+0200
TZOFFSETTO:+0100
TZNAME:CET
DTSTART:20261025T010000
END:STANDARD
END:VTIMEZONE
BEGIN:VEVENT
DTSTART;TZID=Europe/Berlin:20251026T093000
DTEND;TZID=Europe/Berlin:20251026T123000
DTSTAMP:20260423T131450
CREATED:20251006T145136Z
LAST-MODIFIED:20251028T101133Z
UID:10001852-1761471000-1761481800@regenbogenfamilien-muenchen.de
SUMMARY:Regenbogenfrühstück für Pflege- und Adoptionsfamilien
DESCRIPTION:\n			\n			\n				\n				\n				\n				\n				\n				\n				\n				\n				\n				So. 26 Oktober 2025\, 09:30-12:30 Uhr \n			\n				\n				\n				\n				\n				Regenbogenfrühstück für Kinder von Pflege- und Adoptionsfamilien \nPFAD\, ein gemeinnütziger Verein\, der sich für die Interessen der Pflege- und Adoptiveltern einsetzt\, organisiert am 26. Oktober das erste Regenbogenfrühstück für LGBTQIA+-Familien. Die Familien erwartet in Augsburg ein leckeres Frühstücksbüfett. \nAnmeldung hier: https://pfad-augsburg.de/events/regenbogenfruehstueck/ \n  \n\n 
URL:https://regenbogenfamilien-muenchen.de/event/regenbogenfuehstueck-fuer-pflege-und-adoptionsfamilien/
LOCATION:AGH Augsburg\, Ulmer Str.160 Haus H\, Augsburg\, 86156\, Deutschland
CATEGORIES:vergangen
ATTACH;FMTTYPE=image/png:https://regenbogenfamilien-muenchen.de/wp-content/uploads/Stammtisch-LGBTIQ-und-Kinderwunsch-29.9.25-Wordpress3.png
END:VEVENT
END:VCALENDAR