BEGIN:VCALENDAR
VERSION:2.0
PRODID:-//Regenbogenfamilien München - ECPv6.15.20//NONSGML v1.0//EN
CALSCALE:GREGORIAN
METHOD:PUBLISH
X-ORIGINAL-URL:https://regenbogenfamilien-muenchen.de
X-WR-CALDESC:Veranstaltungen für Regenbogenfamilien München
REFRESH-INTERVAL;VALUE=DURATION:PT1H
X-Robots-Tag:noindex
X-PUBLISHED-TTL:PT1H
BEGIN:VTIMEZONE
TZID:Europe/Berlin
BEGIN:DAYLIGHT
TZOFFSETFROM:+0100
TZOFFSETTO:+0200
TZNAME:CEST
DTSTART:20240331T010000
END:DAYLIGHT
BEGIN:STANDARD
TZOFFSETFROM:+0200
TZOFFSETTO:+0100
TZNAME:CET
DTSTART:20241027T010000
END:STANDARD
BEGIN:DAYLIGHT
TZOFFSETFROM:+0100
TZOFFSETTO:+0200
TZNAME:CEST
DTSTART:20250330T010000
END:DAYLIGHT
BEGIN:STANDARD
TZOFFSETFROM:+0200
TZOFFSETTO:+0100
TZNAME:CET
DTSTART:20251026T010000
END:STANDARD
BEGIN:DAYLIGHT
TZOFFSETFROM:+0100
TZOFFSETTO:+0200
TZNAME:CEST
DTSTART:20260329T010000
END:DAYLIGHT
BEGIN:STANDARD
TZOFFSETFROM:+0200
TZOFFSETTO:+0100
TZNAME:CET
DTSTART:20261025T010000
END:STANDARD
END:VTIMEZONE
BEGIN:VEVENT
DTSTART;TZID=Europe/Berlin:20251025T140000
DTEND;TZID=Europe/Berlin:20251025T170000
DTSTAMP:20260424T160304
CREATED:20251006T143509Z
LAST-MODIFIED:20251028T101141Z
UID:10001850-1761400800-1761411600@regenbogenfamilien-muenchen.de
SUMMARY:Schlager- und Dragshow
DESCRIPTION:\n			\n			\n				\n				\n				\n				\n				\n				\n				\n				\n				\n				Sa\, 25. Oktober 2025\, 14:00–17:00 Uhr \n			\n				\n				\n				\n				\n				Am 25. Oktober findet im Kulturzentrum Luise ein „Glitzernder Schlagerzauber zum Mitsingen und Mitfeiern für die gane Familie“ mit vielen bekannten Münchner Drag Queens & Kings statt. Von 14 bis 15 Uhr können alle Besucher*innen auch mit den Drag-Küntler*innen ins Gespräch zu kommen. Zudem gibt es einen Theaterpädagogischen Workshop. Ziel ist eine offene Begegnung\, getragen von gegenseitigem Respekt. \nLink zur Veranstaltung \n \n 
URL:https://regenbogenfamilien-muenchen.de/event/bunter-show-nachmittag/
LOCATION:Luise\, Ruppertstr. 5\, München\, 80337\, Deutschland
CATEGORIES:vergangen
ATTACH;FMTTYPE=image/png:https://regenbogenfamilien-muenchen.de/wp-content/uploads/Drag-Show-Bunter-Nachmittag-Oktober-20251.png
END:VEVENT
END:VCALENDAR